BEGIN:VCALENDAR
VERSION:2.0
PRODID:-//Tukios.com/
BEGIN:VEVENT
UID:0d2685d3-dd7a-48ee-9773-613cdc8f8504@www.opytfh.com
DTSTAMP:20260421T195957Z
DTSTART:20260423T160000Z
DTEND:20260423T170000Z
SUMMARY:Mass
DESCRIPTION:
URL:https://www.opytfh.com/obituaries/salvador-gonzalez
LOCATION: 11128 S Ave G  Chicago IL 60617
GEO:41.6931189;-87.5316493
END:VEVENT
END:VCALENDAR