BEGIN:VCALENDAR
VERSION:2.0
PRODID:-//Tukios.com/
BEGIN:VEVENT
UID:136099c1-2738-4207-90dc-eeb8c8a7d1b7@www.opytfh.com
DTSTAMP:20260421T200852Z
DTSTART:20260423T143000Z
DTEND:20260423T153000Z
SUMMARY:Funeral Service
DESCRIPTION:
URL:https://www.opytfh.com/obituaries/salvador-gonzalez
LOCATION: 13350 S Baltimore Ave  Chicago IL 60633
GEO:41.6522115;-87.5475046
END:VEVENT
END:VCALENDAR