BEGIN:VCALENDAR
VERSION:2.0
PRODID:-//Tukios.com/
BEGIN:VEVENT
UID:649ee4bb-c31f-42f5-9ec7-13a936bb95bd@www.opytfh.com
DTSTAMP:20260421T200301Z
DTSTART:20260422T190000Z
DTEND:20260423T010000Z
SUMMARY:Visitation
DESCRIPTION:
URL:https://www.opytfh.com/obituaries/salvador-gonzalez
LOCATION: 13350 S Baltimore Ave  Chicago IL 60633
GEO:41.6522115;-87.5475046
END:VEVENT
END:VCALENDAR