BEGIN:VCALENDAR
VERSION:2.0
PRODID:-//Tukios.com/
BEGIN:VEVENT
UID:d28232da-a4cf-44ac-805a-b6cae951d993@www.opytfh.com
DTSTAMP:20260422T045739Z
DTSTART:20260425T190000Z
DTEND:20260426T010000Z
SUMMARY:Visitation
DESCRIPTION:
URL:https://www.opytfh.com/obituaries/gilbert-garcia
LOCATION: 13350 S Baltimore Ave  Chicago IL 60633
GEO:41.6522115;-87.5475046
END:VEVENT
END:VCALENDAR